BEGIN:VCALENDAR
VERSION:2.0
PRODID:-//First Baptist Church Brampton - ECPv6.15.10//NONSGML v1.0//EN
CALSCALE:GREGORIAN
METHOD:PUBLISH
X-WR-CALNAME:First Baptist Church Brampton
X-ORIGINAL-URL:https://firstbaptistbrampton.org
X-WR-CALDESC:Events for First Baptist Church Brampton
REFRESH-INTERVAL;VALUE=DURATION:PT1H
X-Robots-Tag:noindex
X-PUBLISHED-TTL:PT1H
BEGIN:VTIMEZONE
TZID:America/Toronto
BEGIN:DAYLIGHT
TZOFFSETFROM:-0500
TZOFFSETTO:-0400
TZNAME:EDT
DTSTART:20240310T070000
END:DAYLIGHT
BEGIN:STANDARD
TZOFFSETFROM:-0400
TZOFFSETTO:-0500
TZNAME:EST
DTSTART:20241103T060000
END:STANDARD
BEGIN:DAYLIGHT
TZOFFSETFROM:-0500
TZOFFSETTO:-0400
TZNAME:EDT
DTSTART:20250309T070000
END:DAYLIGHT
BEGIN:STANDARD
TZOFFSETFROM:-0400
TZOFFSETTO:-0500
TZNAME:EST
DTSTART:20251102T060000
END:STANDARD
BEGIN:DAYLIGHT
TZOFFSETFROM:-0500
TZOFFSETTO:-0400
TZNAME:EDT
DTSTART:20260308T070000
END:DAYLIGHT
BEGIN:STANDARD
TZOFFSETFROM:-0400
TZOFFSETTO:-0500
TZNAME:EST
DTSTART:20261101T060000
END:STANDARD
END:VTIMEZONE
BEGIN:VEVENT
DTSTART;TZID=America/Toronto:20250824T110000
DTEND;TZID=America/Toronto:20250824T130000
DTSTAMP:20260422T141604
CREATED:20250822T184751Z
LAST-MODIFIED:20250822T184751Z
UID:40075-1756033200-1756040400@firstbaptistbrampton.org
SUMMARY:SUNDAY SERVICE
DESCRIPTION:
URL:https://firstbaptistbrampton.org/event/sunday-service/
LOCATION:Church Premises\, 2 Wellington Street East\, Brampton\, Ontario\, L6W 1Y2\, Canada
CATEGORIES:Bible Study,Dinner Party,Mission
END:VEVENT
BEGIN:VEVENT
DTSTART;TZID=America/Toronto:20250707T080000
DTEND;TZID=America/Toronto:20250711T170000
DTSTAMP:20260422T141604
CREATED:20250822T184628Z
LAST-MODIFIED:20250822T190302Z
UID:40073-1751875200-1752253200@firstbaptistbrampton.org
SUMMARY:VBS MAGNIFIED
DESCRIPTION:
URL:https://firstbaptistbrampton.org/event/vbs-magnified/
LOCATION:Church Premises\, 2 Wellington Street East\, Brampton\, Ontario\, L6W 1Y2\, Canada
CATEGORIES:Bible Study,Dinner Party,Mission
END:VEVENT
BEGIN:VEVENT
DTSTART;TZID=America/Toronto:20250510T100000
DTEND;TZID=America/Toronto:20250510T120000
DTSTAMP:20260422T141604
CREATED:20250817T135946Z
LAST-MODIFIED:20250817T140027Z
UID:39962-1746871200-1746878400@firstbaptistbrampton.org
SUMMARY:Mother's Day breakfast
DESCRIPTION:
URL:https://firstbaptistbrampton.org/event/mothers-day-breakfast/
LOCATION:Church Premises\, 2 Wellington Street East\, Brampton\, Ontario\, L6W 1Y2\, Canada
CATEGORIES:Bible Study,Dinner Party,Mission
ORGANIZER;CN="Emma Thompson":MAILTO:email@example.com
END:VEVENT
END:VCALENDAR